BEGIN:VCALENDAR
VERSION:2.0
PRODID:-//wp-events-plugin.com//6.5//EN
BEGIN:VEVENT
UID:24-10611@costablanca.swea.org
DTSTART:20260420T120000Z
DTEND:20260420T120000Z
DTSTAMP:20260409T060411Z
URL:https://costablanca.swea.org/events/festligheter-i-los-angeles-torrevi
 eja/
SUMMARY:Festligheter i Los Angeles\, Torrevieja
DESCRIPTION:SWEA Costa Blanca anordnar\;\n\nVAD: Los Angeles i Torrevieja. 
 En annorlunda och rolig plats att träffas på. Levande musik och dans\, m
 arknad samt mycket annat som sätter guldkant på en måndag.\n\nNÄR: 20 
 april kl 12\n\nVAR: Los Angeles i Torrevieja\n\nKOSTNAD: Gratis inträde.\
 n\nANMÄLAN: Via Facebooksidan\n\nVÄRDINNA: Susan Kristiansen\n\nÖVRIGT
 : Ta gärna med en väninna och kom och ha trevligt med oss.\n\nVarmt Väl
 komna!
END:VEVENT
END:VCALENDAR