BEGIN:VCALENDAR
VERSION:2.0
PRODID:-//wp-events-plugin.com//6.5//EN
BEGIN:VEVENT
UID:24-10613@costablanca.swea.org
DTSTART:20260418T120000Z
DTEND:20260418T133000Z
DTSTAMP:20260406T151226Z
URL:https://costablanca.swea.org/events/besok-pa-easy-horse-care-rescue-ce
 ntre/
SUMMARY:Besök på Easy Horse Care Rescue Centre
DESCRIPTION:SWEA Costa Blanca anordnar\;\n\nVAD: Besöka på denna gård\, 
 som tar hand om och rehabiliterar hästar\, ponnyer och åsnor som farit i
 lla eller blivit övergivna. På gården får varje räddat djur en trygg 
 och kärleksfull fristad\, resten av livet. Efteråt valfritt restaurangbe
 sök på den italienska restaurang 222. Där du betalar för det du bestä
 ller.\n\nNÄR: 18 april kl 12\n\nVAR: Partido Lo Garriga 59\, 03170 Rojale
 s\, Alicante\, Spanien\n\nKOSTNAD: Inträde på gården 15 € för medlem
 mar och 20 € för icke medlemmar.\n\nANMÄLAN: På Facebooksidan. Anmä
 lan är bindande.\n\nVÄRDINNA: Carina Norbäck\n\nÖVRIGT: Ta gärna med 
 en väninna och kom och ha trevligt med oss.\n\nVarmt Välkomna!
END:VEVENT
END:VCALENDAR