BEGIN:VCALENDAR
VERSION:2.0
PRODID:-//wp-events-plugin.com//6.5//EN
BEGIN:VEVENT
UID:24-10612@costablanca.swea.org
DTSTART:20260426T180000Z
DTEND:20260426T200000Z
DTSTAMP:20260409T064754Z
URL:https://costablanca.swea.org/events/aw-pa-rooftop-pa-hotel-dna-med-lju
 vlig-utsikt-over-rosa-sjon/
SUMMARY:AW på rooftop på Hotel DNA\, med ljuvlig utsikt över Rosa sjön
DESCRIPTION:SWEA Costa Blanca anordnar\;\n\nVAD: Vi träffas och trivs till
 sammans\, medan vi beundrar den vackra utsikten över Rosa sjön.\n\nNÄR:
  Söndag kl 18\n\nVAR: Avda. Orihuela\, 75 - Urb. Los Balcones. Torrevieja
 \n\nKOSTNAD: Ingen kostnad\, förutom det du beställer.\n\nANMÄLAN: Via
  Facebooksidan\n\nÖVRIGT: Ta gärna med en väninna och kom och ha trevli
 gt med oss.\n\nVarmt Välkomna!
END:VEVENT
END:VCALENDAR